BEGIN:VCALENDAR
VERSION:2.0
PRODID:-//https://capri.discovercampania.com///NONSGML kigkonsult.se iCalcreator 2.10.15//
METHOD:PUBLISH
BEGIN:VEVENT
UID:20260423T193315CEST-1431c1GLEb@https://capri.discovercampania.com/
DTSTAMP:20260423T173315Z
DESCRIPTION:Nell'ambito del programma di eventi dell'estate 2025\, per tutt
 o il week end torna la VIII edizione del Raduno Jazz Manouche\, che si svo
 lgerà tra Marina Grande\, Corricella\, Chiaiolella e Terra Murata\, a cura
  dell'Associazione Terra Murata. https://capri.discovercampania.com/compon
 ent/rseventspro/Evento/1600-raduno-jazz-a-procida?Itemid=231
DTSTART:20250606T162000Z
DTEND:20250608T182000Z
LOCATION:Procida\, 80079 Procida NA\, Italia (Procida\, 80079 Procida NA\, 
 Italia)
SUMMARY:Raduno Jazz a Procida
URL:https://capri.discovercampania.com/component/rseventspro/Evento/1600-ra
 duno-jazz-a-procida?Itemid=231
END:VEVENT
END:VCALENDAR
