BEGIN:VCALENDAR
VERSION:2.0
PRODID:-//https://capri.discovercampania.com///NONSGML kigkonsult.se iCalcreator 2.10.15//
METHOD:PUBLISH
BEGIN:VEVENT
UID:20260423T211732CEST-9328ipmHE4@https://capri.discovercampania.com/
DTSTAMP:20260423T191732Z
DESCRIPTION:Il Castello del Gusto: per un intero week end a Sessa Aurunca s
 aranno protagonisti i rinomati tartufi raccolti nel territorio\, ispirator
 i di varie ricette e piatti tipici https://capri.discovercampania.com/en/c
 omponent/rseventspro/event/1621-il-castello-del-gusto-a-sessa-aurunca?Item
 id=231
DTSTART:20250711T202000Z
DTEND:20250712T220000Z
LOCATION:SESSA AURUNCA (CE) – Piazza Arcieri Del Vecchio Castello  (81037 S
 essa Aurunca CE\, Italia)
SUMMARY:Il castello del Gusto a Sessa Aurunca
URL:https://capri.discovercampania.com/en/component/rseventspro/event/1621-
 il-castello-del-gusto-a-sessa-aurunca?Itemid=231
END:VEVENT
END:VCALENDAR
